BEGIN:VCALENDAR
VERSION:2.0
PRODID:-// - ECPv6.15.13.1//NONSGML v1.0//EN
CALSCALE:GREGORIAN
METHOD:PUBLISH
X-ORIGINAL-URL:https://greenorillia.ca
X-WR-CALDESC:Events for 
REFRESH-INTERVAL;VALUE=DURATION:PT1H
X-Robots-Tag:noindex
X-PUBLISHED-TTL:PT1H
BEGIN:VTIMEZONE
TZID:UTC
BEGIN:STANDARD
TZOFFSETFROM:+0000
TZOFFSETTO:+0000
TZNAME:UTC
DTSTART:20220101T000000
END:STANDARD
END:VTIMEZONE
BEGIN:VEVENT
DTSTART;TZID=UTC:20230226T130000
DTEND;TZID=UTC:20230226T153000
DTSTAMP:20260425T120108
CREATED:20230226T043504Z
LAST-MODIFIED:20230226T043504Z
UID:1836-1677416400-1677425400@greenorillia.ca
SUMMARY:Oro Moraine Talk with Susan Walmer
DESCRIPTION:Guest speaker Susan Walmer\, CEO of the Oak Ridges Moraine Land Trust\, will speak about the Oak Ridges Moraine & the Oro Moraine. Hosted by Save the Oro Moraine.
URL:https://greenorillia.ca/event/oro-moraine-talk-with-susan-walmer/
LOCATION:Jarratt Community Hall\, 837 Horseshoe Valley Rd E\, Oro-Medonte
ATTACH;FMTTYPE=image/jpeg:https://greenorillia.ca/wp-content/uploads/2023/02/susan3.jpg
END:VEVENT
END:VCALENDAR