BEGIN:VCALENDAR
VERSION:2.0
PRODID:-// - ECPv6.15.13.1//NONSGML v1.0//EN
CALSCALE:GREGORIAN
METHOD:PUBLISH
X-ORIGINAL-URL:https://greenorillia.ca
X-WR-CALDESC:Events for 
REFRESH-INTERVAL;VALUE=DURATION:PT1H
X-Robots-Tag:noindex
X-PUBLISHED-TTL:PT1H
BEGIN:VTIMEZONE
TZID:UTC
BEGIN:STANDARD
TZOFFSETFROM:+0000
TZOFFSETTO:+0000
TZNAME:UTC
DTSTART:20210101T000000
END:STANDARD
END:VTIMEZONE
BEGIN:VEVENT
DTSTART;TZID=UTC:20221202T120000
DTEND;TZID=UTC:20221202T143000
DTSTAMP:20260425T143504
CREATED:20221201T032821Z
LAST-MODIFIED:20221201T032821Z
UID:1529-1669982400-1669991400@greenorillia.ca
SUMMARY:Simcoe North Unites To Protect the Greenbelt
DESCRIPTION:Like a growing number of Ontarians\, residents across Simcoe North are rightly concerned about Bill 23 and Greenbelt cuts. This legislation won’t support the affordable housing we need\, but will rip up the Greenbelt\, limit local democracy\, pave over wetlands and promote costly sprawl. Simcoe North residents are teaming up to have our voices heard this Friday\, December 2nd at “Simcoe North Unites to Protect the Greenbelt”. \nThe event will feature simultaneous pop-up rallies at MPP Jill Dunlop offices in Orillia (575 West St. S) and Midland (320 King St.) from noon until 1pm. From there Simcoe North will unite in Coldwater (on the corner of Coldwater Rd. and Michael Anna Dr.) at 1:30pm. \nJill Dunlop campaigned in 2018 for protecting the Greenbelt and she proudly stood up to Doug Ford to back down on his plan to open it for development. From 2018: \nWhen Marshall’s time came to question Dunlop\, he brought up Ford’s previous plan to open up parts of Ontario’s Greenbelt to development. Marshall wanted to know how the PCs would protect green space in Simcoe County. \nFord abandoned that plan\, Dunlop replied. \n“Myself and other candidates spoke up in favour of not touching that land\,” she said. “Yes\, (Ford) did change his mind and I don’t see anything wrong with that.” \n(Full article here\, or see this video for a portion of the debate\, where MPP Dunlop goes on about how important our environment/farmland is). \nNow MPP Dunlop is silent\, absent\, and complicit in the face of greenbelt development. MPP Dunlop is not responding to her constituents\, so we are looking all around the riding to find her and share our concerns. From Orillia and Midland to Coldwater – we hope you’ll join us. \nPlease RSVP on the Facebook event here. \nIf you cannot make the rally\, please reach out to MPP Jill Dunlop with your concerns. Email: jill.dunlopco@pc.ola.org\, Phone: (705) 326-3246.
URL:https://greenorillia.ca/event/simcoe-north-unites-to-protect-the-greenbelt/
ATTACH;FMTTYPE=image/jpeg:https://greenorillia.ca/wp-content/uploads/2022/12/IMG_6265.jpg
END:VEVENT
END:VCALENDAR