BEGIN:VCALENDAR
VERSION:2.0
PRODID:-// - ECPv6.15.13.1//NONSGML v1.0//EN
CALSCALE:GREGORIAN
METHOD:PUBLISH
X-ORIGINAL-URL:https://greenorillia.ca
X-WR-CALDESC:Events for 
REFRESH-INTERVAL;VALUE=DURATION:PT1H
X-Robots-Tag:noindex
X-PUBLISHED-TTL:PT1H
BEGIN:VTIMEZONE
TZID:UTC
BEGIN:STANDARD
TZOFFSETFROM:+0000
TZOFFSETTO:+0000
TZNAME:UTC
DTSTART:20210101T000000
END:STANDARD
END:VTIMEZONE
BEGIN:VEVENT
DTSTART;TZID=UTC:20220505T180000
DTEND;TZID=UTC:20220505T193000
DTSTAMP:20260425T123123
CREATED:20220522T194129Z
LAST-MODIFIED:20220522T194129Z
UID:742-1651773600-1651779000@greenorillia.ca
SUMMARY:Why We Wear Red
DESCRIPTION:Event held by Krystal Brooks:\nMay 5th is National Day of Awareness for Missing and Murdered Indigenous Women\, Girls and LGBTQ2+ (MMIWG2S).\nWe’ve seen many issues take the spotlight in recent years\, while MMIWG2S has taken a backseat. MMIWG2S is still happening. Everyday. Thousands have been lost and still lack answers\, accountability and action. Thousands still fight to be seen and heard.\nOn this day\, we wear red for all the women\, girls and 2 spirit we have lost and to spread awareness on the colonial violence and systemic failures that lead to us going missing and being murdered at such high rates. Higher than any other race in Canada.\nWe will be meeting at Couchiching Beach Park in the Terry Fox Circle. You’re encouraged to wear red and bring hand drums\, regalia\, etc. Anything you would like to bring to help both celebrate and mourn those we have lost. Your voices are also welcomed and encouraged.\nMiigwetch.\nRSVP on the Facebook event – see link below
URL:https://greenorillia.ca/event/why-we-wear-red/
LOCATION:Terry Fox Circle at Couchiching Beach Park
ATTACH;FMTTYPE=image/jpeg:https://greenorillia.ca/wp-content/uploads/2022/05/279291238_560949145452436_4118127367103426366_n.jpeg
END:VEVENT
BEGIN:VEVENT
DTSTART;TZID=UTC:20220504T190000
DTEND;TZID=UTC:20220504T210000
DTSTAMP:20260425T123123
CREATED:20220522T195104Z
LAST-MODIFIED:20220522T195104Z
UID:751-1651690800-1651698000@greenorillia.ca
SUMMARY:Laugh for Lake Simcoe Starring Brent Butt
DESCRIPTION:The Rescue Lake Simcoe Coalition is hosting a night of laughter\, fun and entertainment as World Renowned Comedian and Star of the hit show Corner Gas – Brent Butt will be performing live.  This event is in support of the Rescue Lake Simcoe Coalition and its efforts to keep Lake Simcoe a habitable ecosytem for generations to come. \nSilent Auction will be available. \nSee link below to purchase tickets.
URL:https://greenorillia.ca/event/laugh-for-lake-simcoe-starring-brent-butt/
ATTACH;FMTTYPE=image/jpeg:https://greenorillia.ca/wp-content/uploads/2022/05/279235542_1044824782817957_3964526894857500444_n.jpeg
END:VEVENT
END:VCALENDAR