BEGIN:VCALENDAR
VERSION:2.0
PRODID:-// - ECPv6.15.13.1//NONSGML v1.0//EN
CALSCALE:GREGORIAN
METHOD:PUBLISH
X-ORIGINAL-URL:https://greenorillia.ca
X-WR-CALDESC:Events for 
REFRESH-INTERVAL;VALUE=DURATION:PT1H
X-Robots-Tag:noindex
X-PUBLISHED-TTL:PT1H
BEGIN:VTIMEZONE
TZID:UTC
BEGIN:STANDARD
TZOFFSETFROM:+0000
TZOFFSETTO:+0000
TZNAME:UTC
DTSTART:20230101T000000
END:STANDARD
END:VTIMEZONE
BEGIN:VEVENT
DTSTART;TZID=UTC:20240421T100000
DTEND;TZID=UTC:20240421T120000
DTSTAMP:20260424T193956
CREATED:20240402T005816Z
LAST-MODIFIED:20240402T010129Z
UID:2672-1713693600-1713700800@greenorillia.ca
SUMMARY:Spring Community Cleanup
DESCRIPTION:Our annual spring community cleanup!\n\nAs the snow melts\, alarming amounts of garbage and debris are uncovered\, posing risks to ecosystems\, waterways\, and wildlife. Join us for a morning of community connection and environmental stewardship.\n\nWe will meet at Couchiching Beach Park in the Terry Fox Circle\, where you will find the Green Orillia. We will have a community discussion\, identify high-priority clean up areas\, and then split off into groups to clean up while some folks stay back to help sort the waste as it comes in!\n\nGarbage bags and gloves will be provided.\n\nBe sure to share and spread the word! See you there!
URL:https://greenorillia.ca/event/spring-community-cleanup/
LOCATION:Terry Fox Circle at Couchiching Beach Park
ATTACH;FMTTYPE=image/png:https://greenorillia.ca/wp-content/uploads/2024/04/Green-Orillia-Cleanup-Poster.png
END:VEVENT
END:VCALENDAR