BEGIN:VCALENDAR
VERSION:2.0
PRODID:-// - ECPv6.15.13.1//NONSGML v1.0//EN
CALSCALE:GREGORIAN
METHOD:PUBLISH
X-ORIGINAL-URL:https://greenorillia.ca
X-WR-CALDESC:Events for 
REFRESH-INTERVAL;VALUE=DURATION:PT1H
X-Robots-Tag:noindex
X-PUBLISHED-TTL:PT1H
BEGIN:VTIMEZONE
TZID:UTC
BEGIN:STANDARD
TZOFFSETFROM:+0000
TZOFFSETTO:+0000
TZNAME:UTC
DTSTART:20210101T000000
END:STANDARD
END:VTIMEZONE
BEGIN:VEVENT
DTSTART;TZID=UTC:20221024T100000
DTEND;TZID=UTC:20221024T200000
DTSTAMP:20260425T182430
CREATED:20221025T202640Z
LAST-MODIFIED:20221025T202640Z
UID:1453-1666605600-1666641600@greenorillia.ca
SUMMARY:Orillia Municipal Election!
DESCRIPTION:Voting locations: \nWard 1: Masonic building\, 24 James St. E. \nWard 2: Orillia Recreation Centre\, 255 West St. S. \nWard 3: Rotary Place\, 100 University Ave. \nWard 4: Patrick Fogarty Catholic Secondary School\, 15 Commerce Rd.
URL:https://greenorillia.ca/event/orillia-municipal-election/
END:VEVENT
END:VCALENDAR