BEGIN:VCALENDAR
VERSION:2.0
PRODID:-// - ECPv6.15.13.1//NONSGML v1.0//EN
CALSCALE:GREGORIAN
METHOD:PUBLISH
X-ORIGINAL-URL:https://greenorillia.ca
X-WR-CALDESC:Events for 
REFRESH-INTERVAL;VALUE=DURATION:PT1H
X-Robots-Tag:noindex
X-PUBLISHED-TTL:PT1H
BEGIN:VTIMEZONE
TZID:UTC
BEGIN:STANDARD
TZOFFSETFROM:+0000
TZOFFSETTO:+0000
TZNAME:UTC
DTSTART:20210101T000000
END:STANDARD
END:VTIMEZONE
BEGIN:VEVENT
DTSTART;TZID=UTC:20220925T130000
DTEND;TZID=UTC:20220925T170000
DTSTAMP:20260425T194203
CREATED:20220925T033030Z
LAST-MODIFIED:20220925T033030Z
UID:1285-1664110800-1664125200@greenorillia.ca
SUMMARY:Sustainable Orillia Path to Net Zero Conference
DESCRIPTION:Sustainable Orillia would like to invite you to attend their “Path to Net Zero” Conference this Sunday from 1-6 pm at St. Paul’s Centre! It’s an opportunity to meet with like-minded citizens\, elected officials and folks who are running for municipal office this fall. This community conference will touch upon the climate change action plan (Orillia’s Climate Future) as well as discuss the uplifting film 2040. The event will allow for community members to provide input on how we can ensure a sustainable future and achieve net zero not only for ourselves\, but for our children and generations to come. Event is free of charge
URL:https://greenorillia.ca/event/sustainable-orillia-path-to-net-zero-conference/
LOCATION:St. Paul’s Centre\, 62 Peter Street N\, Orillia
END:VEVENT
END:VCALENDAR