BEGIN:VCALENDAR
VERSION:2.0
PRODID:-// - ECPv6.15.13.1//NONSGML v1.0//EN
CALSCALE:GREGORIAN
METHOD:PUBLISH
X-ORIGINAL-URL:https://greenorillia.ca
X-WR-CALDESC:Events for 
REFRESH-INTERVAL;VALUE=DURATION:PT1H
X-Robots-Tag:noindex
X-PUBLISHED-TTL:PT1H
BEGIN:VTIMEZONE
TZID:UTC
BEGIN:STANDARD
TZOFFSETFROM:+0000
TZOFFSETTO:+0000
TZNAME:UTC
DTSTART:20210101T000000
END:STANDARD
END:VTIMEZONE
BEGIN:VEVENT
DTSTART;TZID=UTC:20220921T190000
DTEND;TZID=UTC:20220921T190000
DTSTAMP:20260425T194216
CREATED:20220925T032217Z
LAST-MODIFIED:20220925T032217Z
UID:1282-1663786800-1663786800@greenorillia.ca
SUMMARY:Mayoral Candidate Debate
DESCRIPTION:Join to hear candidates Don McIsaac\, Mason Ainsworth\, and John Maxwell share their vision for the future of The City of Orillia. Moderated by Ted Reece. Free admission\, no reserved seating.
URL:https://greenorillia.ca/event/mayoral-candidate-debate/
LOCATION:St. Paul’s Centre\, 62 Peter Street N\, Orillia
END:VEVENT
END:VCALENDAR