BEGIN:VCALENDAR
VERSION:2.0
PRODID:-// - ECPv6.15.13.1//NONSGML v1.0//EN
CALSCALE:GREGORIAN
METHOD:PUBLISH
X-ORIGINAL-URL:https://greenorillia.ca
X-WR-CALDESC:Events for 
REFRESH-INTERVAL;VALUE=DURATION:PT1H
X-Robots-Tag:noindex
X-PUBLISHED-TTL:PT1H
BEGIN:VTIMEZONE
TZID:UTC
BEGIN:STANDARD
TZOFFSETFROM:+0000
TZOFFSETTO:+0000
TZNAME:UTC
DTSTART:20210101T000000
END:STANDARD
END:VTIMEZONE
BEGIN:VEVENT
DTSTART;VALUE=DATE:20220801
DTEND;VALUE=DATE:20220901
DTSTAMP:20260425T205007
CREATED:20220703T221407Z
LAST-MODIFIED:20220703T221407Z
UID:866-1659312000-1661990399@greenorillia.ca
SUMMARY:Couchiching Conservancy Passport to Nature: Walk on the Wild Side (Summer Challenge)
DESCRIPTION:Click link below for event details and registration.
URL:https://greenorillia.ca/event/couchiching-conservancy-passport-to-nature-walk-on-the-wild-side-summer-challenge/
END:VEVENT
BEGIN:VEVENT
DTSTART;VALUE=DATE:20220827
DTEND;VALUE=DATE:20220829
DTSTAMP:20260425T205007
CREATED:20220705T184459Z
LAST-MODIFIED:20220705T184459Z
UID:879-1661558400-1661731199@greenorillia.ca
SUMMARY:RAMA POWWOW 2022
DESCRIPTION:The Rama Powwow is one of the biggest and best powwows in Ontario. All are welcome!\nAugust 27-28 2022\nHeld at John Snake Memorial Community Multipurpose Grounds\, 6030 Rama Road Rama First Nation\, ON.\nCost is $10/day $15/weekend pass; free for kids under 12\, seniors\, handicapped\, or veterans. No pre-registration or advance tickets necessary – pay at gate.\nFirst Grand Entry is Saturday August 27 at 12PM; evening session begins at 630PM. Sunday Grand Entry August 28 at 12:30PM. Gates open around 10AM\n\nCheck out the Rama Powwow Facebook page here and RSVP on the Facebook event here.
URL:https://greenorillia.ca/event/rama-powwow-2022/
END:VEVENT
BEGIN:VEVENT
DTSTART;TZID=UTC:20220827T180000
DTEND;TZID=UTC:20220827T180000
DTSTAMP:20260425T205007
CREATED:20220703T221630Z
LAST-MODIFIED:20220703T221630Z
UID:868-1661623200-1661623200@greenorillia.ca
SUMMARY:Couchiching Conservancy Passport to Nature: Musical Mystery Tour
DESCRIPTION:Click link below for event details and registration.
URL:https://greenorillia.ca/event/couchiching-conservancy-passport-to-nature-musical-mystery-tour/
END:VEVENT
END:VCALENDAR