BEGIN:VCALENDAR
VERSION:2.0
PRODID:-// - ECPv6.15.13.1//NONSGML v1.0//EN
CALSCALE:GREGORIAN
METHOD:PUBLISH
X-ORIGINAL-URL:https://greenorillia.ca
X-WR-CALDESC:Events for 
REFRESH-INTERVAL;VALUE=DURATION:PT1H
X-Robots-Tag:noindex
X-PUBLISHED-TTL:PT1H
BEGIN:VTIMEZONE
TZID:UTC
BEGIN:STANDARD
TZOFFSETFROM:+0000
TZOFFSETTO:+0000
TZNAME:UTC
DTSTART:20210101T000000
END:STANDARD
END:VTIMEZONE
BEGIN:VEVENT
DTSTART;VALUE=DATE:20220801
DTEND;VALUE=DATE:20220901
DTSTAMP:20260425T205345
CREATED:20220703T221407Z
LAST-MODIFIED:20220703T221407Z
UID:866-1659312000-1661990399@greenorillia.ca
SUMMARY:Couchiching Conservancy Passport to Nature: Walk on the Wild Side (Summer Challenge)
DESCRIPTION:Click link below for event details and registration.
URL:https://greenorillia.ca/event/couchiching-conservancy-passport-to-nature-walk-on-the-wild-side-summer-challenge/
END:VEVENT
END:VCALENDAR