BEGIN:VCALENDAR
VERSION:2.0
PRODID:-// - ECPv6.15.13.1//NONSGML v1.0//EN
CALSCALE:GREGORIAN
METHOD:PUBLISH
X-ORIGINAL-URL:https://greenorillia.ca
X-WR-CALDESC:Events for 
REFRESH-INTERVAL;VALUE=DURATION:PT1H
X-Robots-Tag:noindex
X-PUBLISHED-TTL:PT1H
BEGIN:VTIMEZONE
TZID:UTC
BEGIN:STANDARD
TZOFFSETFROM:+0000
TZOFFSETTO:+0000
TZNAME:UTC
DTSTART:20210101T000000
END:STANDARD
END:VTIMEZONE
BEGIN:VEVENT
DTSTART;VALUE=DATE:20220708
DTEND;VALUE=DATE:20220711
DTSTAMP:20260425T215405
CREATED:20220630T175521Z
LAST-MODIFIED:20220630T175521Z
UID:822-1657238400-1657497599@greenorillia.ca
SUMMARY:Green Orillia at Mariposa Folk Festival!
DESCRIPTION:Green Orillia will be tabling at the Community Village at the Mariposa Folk Festival! Community Village Hours: \nJULY 8 – Friday: 4:00 pm – 8:00 pm \nJULY 9 – Saturday: 11:00 am – 8:00 pm \nJULY 10 – Sunday: 11:00 am – 8:00 pm \nCome visit us and chat about sustainability in our community and beyond!
URL:https://greenorillia.ca/event/green-orillia-at-mariposa-folk-festival/
END:VEVENT
END:VCALENDAR