BEGIN:VCALENDAR
VERSION:2.0
PRODID:-// - ECPv6.15.13.1//NONSGML v1.0//EN
CALSCALE:GREGORIAN
METHOD:PUBLISH
X-ORIGINAL-URL:https://greenorillia.ca
X-WR-CALDESC:Events for 
REFRESH-INTERVAL;VALUE=DURATION:PT1H
X-Robots-Tag:noindex
X-PUBLISHED-TTL:PT1H
BEGIN:VTIMEZONE
TZID:UTC
BEGIN:STANDARD
TZOFFSETFROM:+0000
TZOFFSETTO:+0000
TZNAME:UTC
DTSTART:20210101T000000
END:STANDARD
END:VTIMEZONE
BEGIN:VEVENT
DTSTART;TZID=UTC:20220707T180000
DTEND;TZID=UTC:20220707T200000
DTSTAMP:20260425T215527
CREATED:20220630T175102Z
LAST-MODIFIED:20220630T175102Z
UID:819-1657216800-1657224000@greenorillia.ca
SUMMARY:Municipal and School Board Election 2022 Candidates Information Session
DESCRIPTION:Are you thinking about running in the 2022 Municipal or School Board Election? The Ministry of Municipal Affairs and Housing\, in partnership with the City of Orillia and the Townships of Oro-Medonte\, Severn\, Ramara and Springwater will be hosting free information sessions for potential candidates interested in running in the 2022 Municipal and School Board Election and those interested in registering as a Third-Party Advertiser. \nRegister at the link below
URL:https://greenorillia.ca/event/municipal-and-school-board-election-2022-candidates-information-session/
LOCATION:Rotary Place Orillia
END:VEVENT
END:VCALENDAR