BEGIN:VCALENDAR
VERSION:2.0
PRODID:-// - ECPv6.15.13.1//NONSGML v1.0//EN
CALSCALE:GREGORIAN
METHOD:PUBLISH
X-ORIGINAL-URL:https://greenorillia.ca
X-WR-CALDESC:Events for 
REFRESH-INTERVAL;VALUE=DURATION:PT1H
X-Robots-Tag:noindex
X-PUBLISHED-TTL:PT1H
BEGIN:VTIMEZONE
TZID:UTC
BEGIN:STANDARD
TZOFFSETFROM:+0000
TZOFFSETTO:+0000
TZNAME:UTC
DTSTART:20210101T000000
END:STANDARD
END:VTIMEZONE
BEGIN:VEVENT
DTSTART;TZID=UTC:20220524T130000
DTEND;TZID=UTC:20220524T140000
DTSTAMP:20260426T001957
CREATED:20220522T195835Z
LAST-MODIFIED:20220522T195835Z
UID:754-1653397200-1653400800@greenorillia.ca
SUMMARY:Rally to Save the Oro Moraine
DESCRIPTION:Did you know we have a smaller cousin of the Oak Ridges Moraine right here in\nOro-Medonte? It is under threat of development and needs our help and protection!\nJoin us at Horseshoe Valley Memorial Park as we gather to Stop the Sprawl including hearing naturalist David Hawke speak about its history\, wildlife\, threats and more. Hosted by Save the Oro Moraine\, Stop Sprawl Oro-Medonte\, and the Green Party of Ontario Campaign to Elect Elyse Robinson. \nRSVP on the Facebook event – see link below
URL:https://greenorillia.ca/event/rally-to-save-the-oro-moraine/
LOCATION:Horseshoe Valley Memorial Park\, 331 4 Line N Oro-Medonte
ATTACH;FMTTYPE=image/jpeg:https://greenorillia.ca/wp-content/uploads/2022/05/283197131_128230126523398_4783137591672538038_n.jpeg
END:VEVENT
END:VCALENDAR