BEGIN:VCALENDAR
VERSION:2.0
PRODID:-// - ECPv6.15.13.1//NONSGML v1.0//EN
CALSCALE:GREGORIAN
METHOD:PUBLISH
X-ORIGINAL-URL:https://greenorillia.ca
X-WR-CALDESC:Events for 
REFRESH-INTERVAL;VALUE=DURATION:PT1H
X-Robots-Tag:noindex
X-PUBLISHED-TTL:PT1H
BEGIN:VTIMEZONE
TZID:UTC
BEGIN:STANDARD
TZOFFSETFROM:+0000
TZOFFSETTO:+0000
TZNAME:UTC
DTSTART:20210101T000000
END:STANDARD
END:VTIMEZONE
BEGIN:VEVENT
DTSTART;TZID=UTC:20220520T120000
DTEND;TZID=UTC:20220520T133000
DTSTAMP:20260426T001957
CREATED:20220522T193430Z
LAST-MODIFIED:20220522T193430Z
UID:738-1653048000-1653053400@greenorillia.ca
SUMMARY:Lakehead University All-Candidates Panel Discussion
DESCRIPTION:Virtual All-Candidates Panel Discussion for Simcoe North – see link below to register
URL:https://greenorillia.ca/event/lakehead-university-all-candidates-panel-discussion/
ATTACH;FMTTYPE=image/png:https://greenorillia.ca/wp-content/uploads/2022/05/279642903_4975765605873827_2585363786990615119_n.png
END:VEVENT
END:VCALENDAR