BEGIN:VCALENDAR
VERSION:2.0
PRODID:-// - ECPv6.15.13.1//NONSGML v1.0//EN
CALSCALE:GREGORIAN
METHOD:PUBLISH
X-ORIGINAL-URL:https://greenorillia.ca
X-WR-CALDESC:Events for 
REFRESH-INTERVAL;VALUE=DURATION:PT1H
X-Robots-Tag:noindex
X-PUBLISHED-TTL:PT1H
BEGIN:VTIMEZONE
TZID:UTC
BEGIN:STANDARD
TZOFFSETFROM:+0000
TZOFFSETTO:+0000
TZNAME:UTC
DTSTART:20210101T000000
END:STANDARD
END:VTIMEZONE
BEGIN:VEVENT
DTSTART;TZID=UTC:20220519T183000
DTEND;TZID=UTC:20220519T203000
DTSTAMP:20260426T001839
CREATED:20220522T193237Z
LAST-MODIFIED:20220522T193237Z
UID:736-1652985000-1652992200@greenorillia.ca
SUMMARY:Orillia Chamber All-Candidates Meeting
DESCRIPTION:Simcoe North All-Candidates Meeting hosted by The Orillia District Chamber of Commerce\, which will run in the council chambers at the Orillia City Centre. It will also be televised on Rogers TV. The event will be moderated by local attorney and chamber member Fay McFarlane. \nEach candidate will provide a brief introduction before responding to questions prepared by the chamber based on input from its members. Members of the media and the public will then have a chance to ask questions. \nMembers of the public are invited to attend.
URL:https://greenorillia.ca/event/orillia-chamber-all-candidates-meeting/
END:VEVENT
END:VCALENDAR