BEGIN:VCALENDAR
VERSION:2.0
PRODID:-// - ECPv6.15.13.1//NONSGML v1.0//EN
CALSCALE:GREGORIAN
METHOD:PUBLISH
X-ORIGINAL-URL:https://greenorillia.ca
X-WR-CALDESC:Events for 
REFRESH-INTERVAL;VALUE=DURATION:PT1H
X-Robots-Tag:noindex
X-PUBLISHED-TTL:PT1H
BEGIN:VTIMEZONE
TZID:UTC
BEGIN:STANDARD
TZOFFSETFROM:+0000
TZOFFSETTO:+0000
TZNAME:UTC
DTSTART:20210101T000000
END:STANDARD
END:VTIMEZONE
BEGIN:VEVENT
DTSTART;TZID=UTC:20220518T180000
DTEND;TZID=UTC:20220518T200000
DTSTAMP:20260426T001839
CREATED:20220522T193110Z
LAST-MODIFIED:20220522T193616Z
UID:732-1652896800-1652904000@greenorillia.ca
SUMMARY:Creative Nomad Studios Lets Get Real About Small Business Debate
DESCRIPTION:IN PERSON event
URL:https://greenorillia.ca/event/creative-nomad-studios-lets-get-real-about-small-business-debate/
LOCATION:Creative Nomad Studios\, 23 Mississaga St W
ATTACH;FMTTYPE=image/png:https://greenorillia.ca/wp-content/uploads/2022/05/IMG_9790.png
END:VEVENT
END:VCALENDAR