BEGIN:VCALENDAR
VERSION:2.0
PRODID:-// - ECPv6.15.13.1//NONSGML v1.0//EN
CALSCALE:GREGORIAN
METHOD:PUBLISH
X-ORIGINAL-URL:https://greenorillia.ca
X-WR-CALDESC:Events for 
REFRESH-INTERVAL;VALUE=DURATION:PT1H
X-Robots-Tag:noindex
X-PUBLISHED-TTL:PT1H
BEGIN:VTIMEZONE
TZID:UTC
BEGIN:STANDARD
TZOFFSETFROM:+0000
TZOFFSETTO:+0000
TZNAME:UTC
DTSTART:20210101T000000
END:STANDARD
END:VTIMEZONE
BEGIN:VEVENT
DTSTART;TZID=UTC:20220515T140000
DTEND;TZID=UTC:20220515T150000
DTSTAMP:20260426T002030
CREATED:20220516T175812Z
LAST-MODIFIED:20220516T180246Z
UID:619-1652623200-1652626800@greenorillia.ca
SUMMARY:How Does Your Garden Grow? With Jacob Kearey-Moreland
DESCRIPTION:Free information session at St. James Anglican Church with guest speaker Jacob Kearey-Moreland about garden basics with a Q&A. Please RSVP by emailing office@stjamesorillia.com or 705-325-2742
URL:https://greenorillia.ca/event/how-does-your-garden-grow-gardening-basics-information-session-at-st-james-anglican-church/
ATTACH;FMTTYPE=image/jpeg:https://greenorillia.ca/wp-content/uploads/2022/05/how-does-your-garden-grow-3.jpg
END:VEVENT
END:VCALENDAR