BEGIN:VCALENDAR
VERSION:2.0
PRODID:-// - ECPv6.15.13.1//NONSGML v1.0//EN
CALSCALE:GREGORIAN
METHOD:PUBLISH
X-ORIGINAL-URL:https://greenorillia.ca
X-WR-CALDESC:Events for 
REFRESH-INTERVAL;VALUE=DURATION:PT1H
X-Robots-Tag:noindex
X-PUBLISHED-TTL:PT1H
BEGIN:VTIMEZONE
TZID:UTC
BEGIN:STANDARD
TZOFFSETFROM:+0000
TZOFFSETTO:+0000
TZNAME:UTC
DTSTART:20210101T000000
END:STANDARD
END:VTIMEZONE
BEGIN:VEVENT
DTSTART;TZID=UTC:20220514T190000
DTEND;TZID=UTC:20220514T210000
DTSTAMP:20260426T002029
CREATED:20220516T175037Z
LAST-MODIFIED:20220516T175247Z
UID:612-1652554800-1652562000@greenorillia.ca
SUMMARY:Birds of Orillia with David Hawke
DESCRIPTION:Nature groups across the country will bring their communities together on this day\, virtually and in-person\, to celebrate #WorldMigratoryBirdDay. Locally\, Bird Friendly Orillia (a collaboration between the Orillia Naturalists’ Club and several like-minded organizations such as the Couchiching Conservancy\, Green Orillia\, Orillia Bee City and Sustainable Orillia) is pleased to announce an exciting event for all those who share a love of the outdoors and the almost 300 bird species that can be found in and around our community. Please register ahead (see link below)\n\nWell-known naturalist\, photographer and columnist\, David J. Hawke\, will highlight some of the many birds that make Orillia their home base in an interactive free zoom event. \n\n\n\n\n\n\nThe presentation will include practical suggestions to help birds survive and thrive in our area\, following up with a Q&A Session. This event will contribute to Orillia’s progress in becoming Bird Friendly Certified for Nature Canada’s initiative.\n\nSpeaker info: David J. Hawke is well known to Orillians for his weekly nature column that he has penned for the past 33 years (originally with The Orillia Packet\, now with OrilliaMatters.com). His writings are now read around the planet as readers share these nature insights with their own families and friends. An award-winning author\, columnist and nature photographer\, David has always drawn upon the local natural environment for his inspirations. Born and raised in Orillia\, he has had opportunity to explore all the natural habitats that surround us: farmlands\, wetlands\, woodlands and urban habitats. As David often says\, “May the beauty of Nature always surprise and delight you!”.
URL:https://greenorillia.ca/event/birds-of-orillia-with-david-hawke/
ATTACH;FMTTYPE=image/jpeg:https://greenorillia.ca/wp-content/uploads/2022/05/280232937_1051735042126931_7791317924085967554_n.jpeg
END:VEVENT
END:VCALENDAR